BEGIN:VCALENDAR
VERSION:2.0
PRODID:Tertúlia Fadista - Escola de Fado da ARPIA
X-WR-CALNAME:Tertúlia Fadista - Escola de Fado da ARPIA
X-WR-TIMEZONE:Europe/Lisbon
X-PUBLISHED-TTL:P1W
BEGIN:VTIMEZONE
TZID:Europe/Lisbon
X-LIC-LOCATION:Europe/Lisbon
END:VTIMEZONE
BEGIN:VEVENT
UID:69ebe5e808e42
DTSTART;VALUE=DATE:20251206
SEQUENCE:0
TRANSP:OPAQUE
DTEND;VALUE=DATE:20251207
SUMMARY:Tertúlia Fadista - Escola de Fado da ARPIA
CLASS:PUBLIC
DESCRIPTION:No dia 6 dezembro\, pelas 13h\, realiza-se uma Tertúlia Fadist
 a na ARPIA.As reservas podem ser feitas até dia 4 de dezembro e das segui
 ntes formas:Nas instalações da ARPIA\;Ou através de contacto telefónic
 o com o&nbsp\;Sr. Filipe Sousa - 916 054 448 ou Sr. Luís Fialho - 919 120
  400.Consulte o cartaz aqui
X-MICROSOFT-CDO-ALLDAYEVENT:TRUE
DTSTAMP:20260424T215136Z
END:VEVENT
END:VCALENDAR