BEGIN:VCALENDAR
VERSION:2.0
PRODID:Festival de Folclore Infantil e Abertura da Caça ao Caracol - Casa 
 do Povo de Arcena
X-WR-CALNAME:Festival de Folclore Infantil e Abertura da Caça ao Caracol -
  Casa do Povo de Arcena
X-WR-TIMEZONE:Europe/Lisbon
X-PUBLISHED-TTL:P1W
BEGIN:VTIMEZONE
TZID:Europe/Lisbon
X-LIC-LOCATION:Europe/Lisbon
END:VTIMEZONE
BEGIN:VEVENT
UID:69e88a7d6dd6d
DTSTART;VALUE=DATE:20250511
SEQUENCE:0
TRANSP:OPAQUE
DTEND;VALUE=DATE:20250512
SUMMARY:Festival de Folclore Infantil e Abertura da Caça ao Caracol - Casa
  do Povo de Arcena
CLASS:PUBLIC
DESCRIPTION:A&nbsp\;Casa do Povo de Arcena\, em parceria com o Rancho Folcl
 órico de Arcena\, organizou o Festival de Folclore Infantil e a Abertura 
 da Caça ao Caracol para os dia 10 e 11 de Maio.O evento conta com jogos t
 radicionais\, torneio de chinquilho (jogo da malha)\, música ao vivo\, da
 nça (incluindo folclore infantil)\, a caminhada (necessária inscrição)
  e muito mais.Para se inscrever na caminhada deve contactar o nº 96274394
 6.Consulte toda a programação abaixo:&nbsp\;
X-MICROSOFT-CDO-ALLDAYEVENT:TRUE
DTSTAMP:20260422T084445Z
END:VEVENT
END:VCALENDAR