BEGIN:VCALENDAR
VERSION:2.0
PRODID:PerCursos - Curso de Renovação em Aplicação de Produtos Fitofarm
 acêuticos  
X-WR-CALNAME:PerCursos - Curso de Renovação em Aplicação de Produtos Fi
 tofarmacêuticos  
X-WR-TIMEZONE:Europe/Lisbon
X-PUBLISHED-TTL:P1W
BEGIN:VTIMEZONE
TZID:Europe/Lisbon
X-LIC-LOCATION:Europe/Lisbon
END:VTIMEZONE
BEGIN:VEVENT
UID:69e88b9723690
DTSTART;VALUE=DATE:20251213
SEQUENCE:0
TRANSP:OPAQUE
DTEND;VALUE=DATE:20251214
SUMMARY:PerCursos - Curso de Renovação em Aplicação de Produtos Fitofar
 macêuticos  
CLASS:PUBLIC
DESCRIPTION:A PerCursos informa que será realizada uma formação de renov
 ação em aplicação de produtos fitofarmacêuticos com início nos dias 
 13 e 14 de dezembro.Para mais informações sobre as inscrições\, contac
 te o N.º 919959146\, ou envie um email para paulo.magalhaes@percursosform
 acao.com.
X-MICROSOFT-CDO-ALLDAYEVENT:TRUE
DTSTAMP:20260422T084927Z
END:VEVENT
END:VCALENDAR